BEGIN:VCALENDAR
VERSION:2.0
PRODID:-//afrikautonomy summit - ECPv4.9.9//NONSGML v1.0//EN
CALSCALE:GREGORIAN
METHOD:PUBLISH
X-WR-CALNAME:afrikautonomy summit
X-ORIGINAL-URL:https://sommet.afrikautonome.org
X-WR-CALDESC:Évènements pour afrikautonomy summit
BEGIN:VTIMEZONE
TZID:UTC
BEGIN:STANDARD
TZOFFSETFROM:+0000
TZOFFSETTO:+0000
TZNAME:UTC
DTSTART:20180101T000000
END:STANDARD
END:VTIMEZONE
BEGIN:VEVENT
DTSTART;TZID=UTC:20180627T080000
DTEND;TZID=UTC:20180627T170000
DTSTAMP:20260418T101606
CREATED:20180627T133509Z
LAST-MODIFIED:20180627T133509Z
UID:1817-1530086400-1530118800@sommet.afrikautonome.org
SUMMARY:Concours GénieAfrik
DESCRIPTION:
URL:https://sommet.afrikautonome.org/?tribe_events=concours-genieafrik
END:VEVENT
END:VCALENDAR